BEGIN:VCALENDAR
VERSION:2.0
PRODID:-//wp-events-plugin.com//7.2.3.1//EN
TZID:America/New_York
X-WR-TIMEZONE:America/New_York
BEGIN:VEVENT
UID:1079@fredericksburgchamber.org
DTSTART;TZID=America/New_York:20260812T090000
DTEND;TZID=America/New_York:20260812T130000
DTSTAMP:20260408T155310Z
URL:https://www.fredericksburgchamber.org/events/11196/
SUMMARY:Business Academy- People & Performance
DESCRIPTION:[button link="https://fredericksburgregionalchamber.chambermast
 er.com/eventregistration/register/15347"] Register[/button]\nMember Cost: 
 $150 per session\nDate &amp\; Time:August 12\, 2026 | 9:00 a.m. – 1:00 p
 .m.\nSession Overview:\nPeople &amp\; Performance- Speakers Adam VanderWij
 st of SimVentions\, Patricia Hatch of Rappahannock Electric Cooperative an
 d Randy Sparks of Kaufman &amp\; Canoles\, PC will lead this session focus
 ed on maximizing your organization’s most valuable asset\, your people. 
 Your people are your greatest asset. This session explores how to build st
 rong teams\, enhance leadership effectiveness\, and create a culture that 
 drives performance.\nParticipants will learn practical strategies for hiri
 ng\, employee engagement\, and performance management to support a thrivin
 g and productive workplace.\nThis session is part of a 6-month\, cohort-ba
 sed academy featuring expert-led instruction and hands-on learning across 
 key areas of business growth. Participants have the opportunity to audit i
 ndividual sessions\, making it easier to access targeted learning without 
 committing to the full program.
ATTACH;FMTTYPE=image/jpeg:https://www.fredericksburgchamber.org/wp-content
 /uploads/People-and-Performance-1.png
CATEGORIES:Sponsorship Contact Carley Walker,Upcoming Events
LOCATION:Fredericksburg Regional Chamber of Commerce\, 1701 Fall Hill Ave\,
  Suite 106\, Fredericksburg\, VA\, 22401\, United States
X-APPLE-STRUCTURED-LOCATION;VALUE=URI;X-ADDRESS=1701 Fall Hill Ave\, Suite 
 106\, Fredericksburg\, VA\, 22401\, United States;X-APPLE-RADIUS=100;X-TIT
 LE=Fredericksburg Regional Chamber of Commerce:geo:0,0
END:VEVENT
BEGIN:VTIMEZONE
TZID:America/New_York
X-LIC-LOCATION:America/New_York
BEGIN:DAYLIGHT
DTSTART:20260308T030000
TZOFFSETFROM:-0500
TZOFFSETTO:-0400
TZNAME:EDT
END:DAYLIGHT
END:VTIMEZONE
END:VCALENDAR