BEGIN:VCALENDAR
VERSION:2.0
PRODID:-//wp-events-plugin.com//7.2.3.1//EN
TZID:America/New_York
X-WR-TIMEZONE:America/New_York
BEGIN:VEVENT
UID:1081@fredericksburgchamber.org
DTSTART;TZID=America/New_York:20260528T093000
DTEND;TZID=America/New_York:20260528T110000
DTSTAMP:20260416T164556Z
URL:https://www.fredericksburgchamber.org/events/leadership-fredericksburg
 -information-session-3/
SUMMARY:Leadership Fredericksburg Information Session
DESCRIPTION:[button link="https://fredericksburgregionalchamber.chambermast
 er.com/eventregistration/register/15366"] Register[/button]\nLeadership Fr
 edericksburg is about to embark on its 20th year. We are now accepting app
 lications through July 1st.  If you've been thinking about applying\, co
 me to this session to learn the ins and outs of the Fredericksburg region'
 s premier leadership development program. This open session will include a
 n opportunity to speak directly to a panel.\n\nPanelists will include Prog
 ram Leaders from the Faculty\, Mentors and Alumni.\n\nCan't make the sessi
 on\, but still interested in learning more or applying? Visit Leadership 
 Fredericksburg to learn more about Leadership Fredericksburg and apply or
  contact Carley Walker at 540-373-9508 or cwalker@fxbgchamber.org.
ATTACH;FMTTYPE=image/jpeg:https://www.fredericksburgchamber.org/wp-content
 /uploads/class-of-2027-info-session-official.png
CATEGORIES:Upcoming Events
LOCATION:The Chamber Building\, 1701 Fall Hill Ave\, Suite 106\, Fredericks
 burg\, VA\, 22401\, United States
X-APPLE-STRUCTURED-LOCATION;VALUE=URI;X-ADDRESS=1701 Fall Hill Ave\, Suite 
 106\, Fredericksburg\, VA\, 22401\, United States;X-APPLE-RADIUS=100;X-TIT
 LE=The Chamber Building:geo:0,0
END:VEVENT
BEGIN:VTIMEZONE
TZID:America/New_York
X-LIC-LOCATION:America/New_York
BEGIN:DAYLIGHT
DTSTART:20260308T030000
TZOFFSETFROM:-0500
TZOFFSETTO:-0400
TZNAME:EDT
END:DAYLIGHT
END:VTIMEZONE
END:VCALENDAR