BEGIN:VCALENDAR
VERSION:2.0
PRODID:-//wp-events-plugin.com//7.2.3.1//EN
TZID:America/New_York
X-WR-TIMEZONE:America/New_York
BEGIN:VEVENT
UID:1083@fredericksburgchamber.org
DTSTART;TZID=America/New_York:20260529T163000
DTEND;TZID=America/New_York:20260529T170000
DTSTAMP:20260417T150330Z
URL:https://www.fredericksburgchamber.org/events/ribbon-cutting-grand-open
 ing-k-pot-fredericksburg/
SUMMARY:Ribbon Cutting: Grand Opening K Pot Fredericksburg
DESCRIPTION:K Pot Fredericksburg opened its doors in December and quickly b
 ecame a go to destination in Central Park for all you can eat Korean BBQ a
 nd hot pot. The restaurant is focused on satisfying the area’s cravings 
 with fresh ingredients\, bold flavors\, and a dining experience designed t
 o bring people together. In just 3 months\, K Pot Fredericksburg has built
  a reputation for offering more than a meal\, with sizzling grills\, bubbl
 ing broths\, vibrant drinks\, and a lively atmosphere where friends\, fami
 lies\, and food lovers can gather\, celebrate\, and make memories. Service
 s and offerings include hot pot\, Korean BBQ\, a full service bar\, and bo
 ba drinks\, along with creative cocktails\, soju\, mocktails\, and other n
 on alcoholic options.
ATTACH;FMTTYPE=image/jpeg:https://www.fredericksburgchamber.org/wp-content
 /uploads/kpot-RC.png
CATEGORIES:Sponsorship Contact Wendy Zelazny,Upcoming Events
LOCATION:K Pot Fredericksburg\, 1791 Carl D. Silver Pkwy\, Fredericksburg\,
  VA\, 22401\, United States
X-APPLE-STRUCTURED-LOCATION;VALUE=URI;X-ADDRESS=1791 Carl D. Silver Pkwy\, 
 Fredericksburg\, VA\, 22401\, United States;X-APPLE-RADIUS=100;X-TITLE=K P
 ot Fredericksburg:geo:0,0
END:VEVENT
BEGIN:VTIMEZONE
TZID:America/New_York
X-LIC-LOCATION:America/New_York
BEGIN:DAYLIGHT
DTSTART:20260308T030000
TZOFFSETFROM:-0500
TZOFFSETTO:-0400
TZNAME:EDT
END:DAYLIGHT
END:VTIMEZONE
END:VCALENDAR