BEGIN:VCALENDAR
VERSION:2.0
PRODID:-//wp-events-plugin.com//7.2.3.1//EN
TZID:America/New_York
X-WR-TIMEZONE:America/New_York
BEGIN:VEVENT
UID:1084@fredericksburgchamber.org
DTSTART;TZID=America/New_York:20260508T160000
DTEND;TZID=America/New_York:20260508T163000
DTSTAMP:20260417T150538Z
URL:https://www.fredericksburgchamber.org/events/ribbon-cutting-rinehart-b
 ryant-anniversary/
SUMMARY:Ribbon Cutting: Rinehart Bryant Anniversary
DESCRIPTION:Rinehart Bryant\, PLLC was founded in September 2021 after brea
 king off from another firm. The practice began with 4 attorneys and 4 staf
 f members and has since grown by an additional 5 attorneys and 2 staff mem
 bers. Over the past 5 years in the area\, including 1 year in Spotsylvania
 \, the firm has continued to grow and expand its practice throughout the F
 redericksburg region. The firm primarily offers family law services\, whil
 e also handling some criminal defense work.
ATTACH;FMTTYPE=image/jpeg:https://www.fredericksburgchamber.org/wp-content
 /uploads/rinehart-bryant-RC.png
CATEGORIES:Sponsorship Contact Wendy Zelazny,Upcoming Events
LOCATION:Rinehart Bryant\, 9124 Courthouse Rd\, Suite 106\, Spotsylvania\, 
 VA\, 22553\, United States
X-APPLE-STRUCTURED-LOCATION;VALUE=URI;X-ADDRESS=9124 Courthouse Rd\, Suite 
 106\, Spotsylvania\, VA\, 22553\, United States;X-APPLE-RADIUS=100;X-TITLE
 =Rinehart Bryant:geo:0,0
END:VEVENT
BEGIN:VTIMEZONE
TZID:America/New_York
X-LIC-LOCATION:America/New_York
BEGIN:DAYLIGHT
DTSTART:20260308T030000
TZOFFSETFROM:-0500
TZOFFSETTO:-0400
TZNAME:EDT
END:DAYLIGHT
END:VTIMEZONE
END:VCALENDAR