BEGIN:VCALENDAR
VERSION:2.0
PRODID:-//wp-events-plugin.com//7.2.3.1//EN
TZID:America/New_York
X-WR-TIMEZONE:America/New_York
BEGIN:VEVENT
UID:1082@fredericksburgchamber.org
DTSTART;TZID=America/New_York:20260514T160000
DTEND;TZID=America/New_York:20260514T163000
DTSTAMP:20260417T150032Z
URL:https://www.fredericksburgchamber.org/events/ribbon-cutting-wealth-tra
 nsfer-alliance-grand-opening/
SUMMARY:Ribbon Cutting: Wealth Transfer Alliance Grand Opening
DESCRIPTION:Wealth Transfer Alliance\, Team Bailey\, was formalized in 2023
  as an alliance of subject matter experts with more than 30 years of top l
 evel experience across HR\, finance\, security\, insurance\, health\, educ
 ation\, public service\, leadership\, and more. The organization was creat
 ed to help address some of the greatest wealth challenges facing individua
 ls\, families\, and businesses across America\, with a focus on delivering
  innovative solutions in an ever evolving business landscape. Services and
  offerings include programs and strategies designed to reduce operational 
 expenses and help businesses thrive\, including the Payroll Tax Initiative
 \, affordable medical plans\, HR and business management support\, digital
  ID protection\, and other business focused solutions.
ATTACH;FMTTYPE=image/jpeg:https://www.fredericksburgchamber.org/wp-content
 /uploads/wealth-transfer-alliance-RC.png
CATEGORIES:Sponsorship Contact Wendy Zelazny,Upcoming Events
LOCATION:The Chamber Building\, 1701 Fall Hill Ave\, Suite 106\, Fredericks
 burg\, VA\, 22401\, United States
X-APPLE-STRUCTURED-LOCATION;VALUE=URI;X-ADDRESS=1701 Fall Hill Ave\, Suite 
 106\, Fredericksburg\, VA\, 22401\, United States;X-APPLE-RADIUS=100;X-TIT
 LE=The Chamber Building:geo:0,0
END:VEVENT
BEGIN:VTIMEZONE
TZID:America/New_York
X-LIC-LOCATION:America/New_York
BEGIN:DAYLIGHT
DTSTART:20260308T030000
TZOFFSETFROM:-0500
TZOFFSETTO:-0400
TZNAME:EDT
END:DAYLIGHT
END:VTIMEZONE
END:VCALENDAR